BEGIN:VCALENDAR
VERSION:2.0
PRODID:Events Booking
BEGIN:VEVENT
UID:69e5e21c4b5fc
SUMMARY:Zentrale Kyugraduierung zum Blau- und Braungurt
DESCRIPTION:
 
 
  
  
 
 
  
  
 
 
  
  
 
 
  
 
  
 
 
  
  
 
 
  
  
 
 
  
  
 
 
  
  
 
 

   
  
 
 
  
  
 
 
 
 Lehrgang und Graduierung zum Blau- und
  Braungurt. Judoka können nur mit Heimtrainern teilnehmen.
  
  
LOCATION:Weipertshausener Straße\, Münsing\, 82541 Bayern\, Deutschland
DTSTART:20260504T160000Z
DTSTAMP:20260414T080307Z
ORGANIZER;CN=Bayerischer Judo-Verband e.V.:MAILTO:tickets@b-j-v.de
GEO:47.902782;11.365212
X-APPLE-STRUCTURED-LOCATION;VALUE=URI;X-ADDRESS=Weipertshausener Straße\, 
 Münsing\, 82541 Bayern\, Deutschland;X-APPLE-RADIUS=72;X-TITLE=JV Ammerla
 nd-Münsing:47.902782;11.365212
END:VEVENT
END:VCALENDAR