BEGIN:VCALENDAR
VERSION:2.0
PRODID:Events Booking
BEGIN:VEVENT
UID:69e74bc9011a6
SUMMARY:Tageslehrgang U15 in Esslingen
DESCRIPTION:Mitbringen:
 Judoanzug\, Krankenversicherungskarte\, Tape\, Wa
 sserflasche\, Getränke und ein bissen Taschengeld.
DTSTART:20260117T060000Z
DTEND:20260117T180000Z
DTSTAMP:20251119T082906Z
ORGANIZER;CN=Bayerischer Judo-Verband e.V.:MAILTO:tickets@b-j-v.de
END:VEVENT
END:VCALENDAR