BEGIN:VCALENDAR
VERSION:2.0
PRODID:Events Booking
BEGIN:VEVENT
UID:69e65b0a45df2
SUMMARY:<font color=\"red\">Sommercamp FU15/FU18</font>
DESCRIPTION:
LOCATION:Holzen 4-6\, 83334 Inzell
DTSTART:20260822T130000Z
DTEND:20260829T080000Z
DTSTAMP:20251123T180044Z
ORGANIZER;CN=Bayerischer Judo-Verband e.V.:MAILTO:tickets@b-j-v.de
GEO:47.781746;12.741298
X-APPLE-STRUCTURED-LOCATION;VALUE=URI;X-ADDRESS=Holzen 4-6\, 83334 Inzell;X
 -APPLE-RADIUS=72;X-TITLE=BLSV-Sportcamp Inzell:47.781746;12.741298
END:VEVENT
END:VCALENDAR