BEGIN:VCALENDAR
VERSION:2.0
PRODID:Events Booking
BEGIN:VEVENT
UID:69e74b73b1274
SUMMARY:Neujahrskurs U16/18 Linz (AUT)
DESCRIPTION:Weitere Informationen sind im Termin zu finden.
DTSTART:20260101T230000Z
DTEND:20260104T230000Z
DTSTAMP:20251120T141758Z
ORGANIZER;CN=Bayerischer Judo-Verband e.V.:MAILTO:tickets@b-j-v.de
END:VEVENT
END:VCALENDAR