BEGIN:VCALENDAR
VERSION:2.0
PRODID:Events Booking
BEGIN:VEVENT
UID:69e74b72d5cfe
SUMMARY:Matsuru Dutch Open Espoir U18 Eindhoven (NED)
DESCRIPTION:Weitere Informationen sind im Termin zu finden.
DTSTART:20260108T230000Z
DTEND:20260111T220000Z
DTSTAMP:20251120T142042Z
ORGANIZER;CN=Bayerischer Judo-Verband e.V.:MAILTO:tickets@b-j-v.de
END:VEVENT
END:VCALENDAR