BEGIN:VCALENDAR
VERSION:2.0
PRODID:Events Booking
BEGIN:VEVENT
UID:69ebe6398e528
SUMMARY:Lehrgang \"Oldies but Goldies\"
DESCRIPTION:
LOCATION:Kirchenstraße\, Germering\, 82110 Bayern\, Deutschland
DTSTART:20250315T090000Z
DTEND:20250315T150000Z
DTSTAMP:20250124T171244Z
ORGANIZER;CN=Bayerischer Judo-Verband e.V.:MAILTO:tickets@b-j-v.de
GEO:48.136727;11.364847
X-APPLE-STRUCTURED-LOCATION;VALUE=URI;X-ADDRESS=Kirchenstraße\, Germering\
 , 82110 Bayern\, Deutschland;X-APPLE-RADIUS=72;X-TITLE=Ausrichter:	Sportcl
 ub Unterpfaffenhofen-Germering:48.136727;11.364847
END:VEVENT
END:VCALENDAR