BEGIN:VCALENDAR
VERSION:2.0
PRODID:Events Booking
BEGIN:VEVENT
UID:69ebbc9dc9bf0
SUMMARY:Kompaktlehrgang zum 1. DAN in Inzell
DESCRIPTION:
LOCATION:Inzell\, 83334 Bayern\, Deutschland
DTSTART:20260829T150000Z
DTEND:20260905T070000Z
DTSTAMP:20251109T115146Z
ORGANIZER;CN=Bayerischer Judo-Verband e.V.:MAILTO:tickets@b-j-v.de
GEO:47.785927;12.742242
X-APPLE-STRUCTURED-LOCATION;VALUE=URI;X-ADDRESS=Inzell\, 83334 Bayern\, Deu
 tschland;X-APPLE-RADIUS=72;X-TITLE=Sportcamp Inzell:47.785927;12.742242
END:VEVENT
END:VCALENDAR