BEGIN:VCALENDAR
VERSION:2.0
PRODID:Events Booking
BEGIN:VEVENT
UID:69e7bda22b858
SUMMARY:IPPON-Fighter Lehrgang U13 mit Randoriturnier
DESCRIPTION:
 IPPON FIGHTER Lehrgang + Randori-Turnier für U13
 Bei dies
 er neuen Veranstaltungsreihe verbinden wir Wettkampf und Training. 
 
 
 Randori-Turnier: Sammle so viele Ippons wie möglich - Jeder gegen Jeden i
 n 5er-Gruppen - Kampfzeit 3:00 min
 Lehrgang: Eine Trainingseinheit mit T
 ipps für deinen nächsten Wettkampf
 
 Neue Teilnehmer erhalten ein IPP
 ON-FIGHTER-T-SHIRT
LOCATION:Wohlauer Straße 16-18\, Nürnberg\, 90475 Bayern\, Deutschland
DTSTART:20251018T073000Z
DTSTAMP:20250327T054800Z
ORGANIZER;CN=Bayerischer Judo-Verband e.V.:MAILTO:tickets@b-j-v.de
GEO:49.409269;11.163544
X-APPLE-STRUCTURED-LOCATION;VALUE=URI;X-ADDRESS=Wohlauer Straße 16-18\, N
 ürnberg\, 90475 Bayern\, Deutschland;X-APPLE-RADIUS=72;X-TITLE=TSV Altenf
 urt:49.409269;11.163544
END:VEVENT
END:VCALENDAR