BEGIN:VCALENDAR
VERSION:2.0
PRODID:Events Booking
BEGIN:VEVENT
UID:69eba74441ce1
SUMMARY:Offene Gebiet Nord VMM U13 m+w 
DESCRIPTION:
LOCATION:Wohlauer Straße 16-18\, Nürnberg\, 90475 Bayern\, Deutschland
DTSTART:20260502T070000Z
DTEND:20260502T140000Z
DTSTAMP:20251117T145349Z
ORGANIZER;CN=Bayerischer Judo-Verband e.V.:MAILTO:tickets@b-j-v.de
GEO:49.409269;11.163544
X-APPLE-STRUCTURED-LOCATION;VALUE=URI;X-ADDRESS=Wohlauer Straße 16-18\, N
 ürnberg\, 90475 Bayern\, Deutschland;X-APPLE-RADIUS=72;X-TITLE=TSV Altenf
 urt:49.409269;11.163544
END:VEVENT
END:VCALENDAR