BEGIN:VCALENDAR
VERSION:2.0
PRODID:Events Booking
BEGIN:VEVENT
UID:69e738af8da4d
SUMMARY:DJB-Sichtungsrandori U17
DESCRIPTION:
LOCATION:Grünheide (Mark)\, 15537 Brandenburg\, Deutschland
DTSTART:20221129T230000Z
DTSTAMP:20221121T103304Z
ORGANIZER;CN=Bayerischer Judo-Verband e.V.:MAILTO:tickets@b-j-v.de
GEO:52.421072;13.827345
X-APPLE-STRUCTURED-LOCATION;VALUE=URI;X-ADDRESS=Grünheide (Mark)\, 15537 B
 randenburg\, Deutschland;X-APPLE-RADIUS=72;X-TITLE=Kienbaum:52.421072;13.8
 27345
END:VEVENT
END:VCALENDAR