BEGIN:VCALENDAR
VERSION:2.0
PRODID:Events Booking
BEGIN:VEVENT
UID:69e7fd0d0e515
SUMMARY:Bayerische Bodenmeisterschaften 
DESCRIPTION:Abgesagt!!!\n
LOCATION:Willstätterstraße\, Nürnberg\, 90449 Bayern\, Deutschland
DTSTART:20230624T080000Z
DTEND:20230323T230000Z
DTSTAMP:20230319T165524Z
ORGANIZER;CN=Bayerischer Judo-Verband e.V.:MAILTO:tickets@b-j-v.de
GEO:49.427176;11.012349
X-APPLE-STRUCTURED-LOCATION;VALUE=URI;X-ADDRESS=Willstätterstraße\, Nürn
 berg\, 90449 Bayern\, Deutschland;X-APPLE-RADIUS=72;X-TITLE=ATV Frankonia 
 Nürnberg:49.427176;11.012349
END:VEVENT
END:VCALENDAR