BEGIN:VCALENDAR
VERSION:2.0
PRODID:Events Booking
BEGIN:VEVENT
UID:69ebc4ab49cd6
SUMMARY:ABGESAGT wegen MVV-Streik !!!    4. Münchner Bezirkstraining .....
 ...
DESCRIPTION:
LOCATION:Grundschul-Halle\, Camerloherstraße 20a\, 85737 Ismaning\, Bayern
 \, Deutschland
DTSTART:20260318T170000Z
DTEND:20260318T183000Z
DTSTAMP:20260303T133911Z
ORGANIZER;CN=Bayerischer Judo-Verband e.V.:MAILTO:tickets@b-j-v.de
GEO:48.218168;11.670243
X-APPLE-STRUCTURED-LOCATION;VALUE=URI;X-ADDRESS=Grundschul-Halle\, Camerloh
 erstraße 20a\, 85737 Ismaning\, Bayern\, Deutschland;X-APPLE-RADIUS=72;X-
 TITLE=Budo-Club Ismaing   (Halle Camerloherstr):48.218168;11.670243
END:VEVENT
END:VCALENDAR